BEGIN:VCALENDAR
VERSION:2.0
PRODID:-//eventon.com NONSGML v1.0//EN
BEGIN:VEVENT
UID:69e64bc4f35b7
DTSTAMP:20260420T175236
DTSTART:20240605T070000Z
DTEND:20240605T100000Z
TZID:Europe/Paris
LOCATION:CCIMBO Morlaix Aérodrome de Morlaix-Ploujean\,  Morlaix
SUMMARY:Permanence Cybersécurité CCIMBO Morlaix
DESCRIPTION: Vous avez des questions concernant la cybersécurité de votre entreprise ? Le GAcyb organise des permanences les premiers mercredis de chaque mois au sein des CCI de Quimper\,  Brest et Morlaix. Ces permanences ont lieu de 9h à 12h. Ces permanences sont gratuites et sont assurées par des membres du[..]
URL:https://www.gacyb.bzh/events/permanence-cybersecurite-ccimbo-morlaix-2/var/ri-8.l-L1
END:VEVENT
END:VCALENDAR